BEGIN:VCALENDAR
VERSION:2.0
PRODID:-//Marinierskapel der Koninklijke Marine - ECPv5.16.4//NONSGML v1.0//EN
CALSCALE:GREGORIAN
METHOD:PUBLISH
X-WR-CALNAME:Marinierskapel der Koninklijke Marine
X-ORIGINAL-URL:https://marinierskapel.com
X-WR-CALDESC:Events for Marinierskapel der Koninklijke Marine
REFRESH-INTERVAL;VALUE=DURATION:PT1H
X-Robots-Tag:noindex
X-PUBLISHED-TTL:PT1H
BEGIN:VTIMEZONE
TZID:Europe/Amsterdam
BEGIN:DAYLIGHT
TZOFFSETFROM:+0100
TZOFFSETTO:+0200
TZNAME:CEST
DTSTART:20250330T010000
END:DAYLIGHT
BEGIN:STANDARD
TZOFFSETFROM:+0200
TZOFFSETTO:+0100
TZNAME:CET
DTSTART:20251026T010000
END:STANDARD
END:VTIMEZONE
BEGIN:VEVENT
DTSTART;VALUE=DATE:20250815
DTEND;VALUE=DATE:20250816
DTSTAMP:20260422T143616
CREATED:20241122T130033Z
LAST-MODIFIED:20250406T131826Z
UID:2224-1755216000-1755302399@marinierskapel.com
SUMMARY:Herdenking capitulatie Japan
DESCRIPTION:Nederland herdenkt de capitulatie van Japan\, waarmee in 1945 de Tweede Wereldoorlog voor het Koninkrijk der Nederlanden definitief ten einde kwam. Bij de plechtigheid worden alle burger- en militaire slachtoffers herdacht van de Japanse bezetting van Nederlands-Indië tijdens de oorlogsjaren. \n\n\nKijk voor meer informatie en het programma op de website Nationale Herdenking 15 augustus 1945.
URL:https://marinierskapel.com/agenda/herdenking-capitulatie-japan/
LOCATION:Indisch Monument\, Scheveningse Bosjes\, Den Haag\, 2585 JZ\, Nederland
ATTACH;FMTTYPE=image/jpeg:https://marinierskapel.com/wp-content/uploads/2022/04/eregroet.jpg
END:VEVENT
END:VCALENDAR