BEGIN:VCALENDAR
VERSION:2.0
PRODID:-//Marinierskapel der Koninklijke Marine - ECPv5.16.4//NONSGML v1.0//EN
CALSCALE:GREGORIAN
METHOD:PUBLISH
X-ORIGINAL-URL:https://marinierskapel.com
X-WR-CALDESC:Events for Marinierskapel der Koninklijke Marine
REFRESH-INTERVAL;VALUE=DURATION:PT1H
X-Robots-Tag:noindex
X-PUBLISHED-TTL:PT1H
BEGIN:VTIMEZONE
TZID:Europe/Amsterdam
BEGIN:DAYLIGHT
TZOFFSETFROM:+0100
TZOFFSETTO:+0200
TZNAME:CEST
DTSTART:20250330T010000
END:DAYLIGHT
BEGIN:STANDARD
TZOFFSETFROM:+0200
TZOFFSETTO:+0100
TZNAME:CET
DTSTART:20251026T010000
END:STANDARD
END:VTIMEZONE
BEGIN:VEVENT
DTSTART;TZID=Europe/Amsterdam:20250912T140000
DTEND;TZID=Europe/Amsterdam:20250912T163000
DTSTAMP:20260422T130118
CREATED:20250901T184218Z
LAST-MODIFIED:20250901T184218Z
UID:3078-1757685600-1757694600@marinierskapel.com
SUMMARY:Nationale Taptoe\, Veteranenvoorstelling
DESCRIPTION:De Nationale Taptoe is al zeventig jaar één van de meest vooraanstaande militaire taptoe’s in de wereld. In een ruim twee uur durende show\, met een diversiteit aan muziek\, indrukwekkende lichtshows en spectaculaire effecten\, treden naast vrijwel alle Nederlandse militaire orkesten\, zang-\, dansgroepen en diverse artiesten\, ook speciale buitenlandse gasten op. Dit jaar zijn dat onder andere The International Tattoo Highland Dance Team en The International Tattoo Pipes and Drums.
URL:https://marinierskapel.com/agenda/nationale-taptoe-veteranenvoorstelling/
ATTACH;FMTTYPE=image/jpeg:https://marinierskapel.com/wp-content/uploads/2025/09/Taptoe2024-1-scaled.jpg
END:VEVENT
BEGIN:VEVENT
DTSTART;TZID=Europe/Amsterdam:20250912T200000
DTEND;TZID=Europe/Amsterdam:20250912T223000
DTSTAMP:20260422T130118
CREATED:20250901T182357Z
LAST-MODIFIED:20250901T182357Z
UID:3073-1757707200-1757716200@marinierskapel.com
SUMMARY:Nationale Taptoe
DESCRIPTION:De Nationale Taptoe is al zeventig jaar één van de meest vooraanstaande militaire taptoe’s in de wereld. In een ruim twee uur durende show\, met een diversiteit aan muziek\, indrukwekkende lichtshows en spectaculaire effecten\, treden naast vrijwel alle Nederlandse militaire orkesten\, zang-\, dansgroepen en diverse artiesten\, ook speciale buitenlandse gasten op. Dit jaar zijn dat onder andere The International Tattoo Highland Dance Team en The International Tattoo Pipes and Drums.
URL:https://marinierskapel.com/agenda/nationale-taptoe/
LOCATION:Ahoy\, Rotterdam\, Ahoyweg 10\, Rotterdam\, Zuid-Holland\, 3084BA
ATTACH;FMTTYPE=image/jpeg:https://marinierskapel.com/wp-content/uploads/2024/03/IMG_4377-e1710156466750.jpg
END:VEVENT
END:VCALENDAR