BEGIN:VCALENDAR
VERSION:2.0
PRODID:-//Marinierskapel der Koninklijke Marine - ECPv5.16.4//NONSGML v1.0//EN
CALSCALE:GREGORIAN
METHOD:PUBLISH
X-WR-CALNAME:Marinierskapel der Koninklijke Marine
X-ORIGINAL-URL:https://marinierskapel.com
X-WR-CALDESC:Events for Marinierskapel der Koninklijke Marine
REFRESH-INTERVAL;VALUE=DURATION:PT1H
X-Robots-Tag:noindex
X-PUBLISHED-TTL:PT1H
BEGIN:VTIMEZONE
TZID:Europe/Amsterdam
BEGIN:DAYLIGHT
TZOFFSETFROM:+0100
TZOFFSETTO:+0200
TZNAME:CEST
DTSTART:20250330T010000
END:DAYLIGHT
BEGIN:STANDARD
TZOFFSETFROM:+0200
TZOFFSETTO:+0100
TZNAME:CET
DTSTART:20251026T010000
END:STANDARD
END:VTIMEZONE
BEGIN:VEVENT
DTSTART;TZID=Europe/Amsterdam:20251030T193000
DTEND;TZID=Europe/Amsterdam:20251030T213000
DTSTAMP:20260422T102054
CREATED:20250901T200345Z
LAST-MODIFIED:20250901T200345Z
UID:3098-1761852600-1761859800@marinierskapel.com
SUMMARY:180 jarig jubileum Fanfare St. Caecilia Schimmert
DESCRIPTION:In het kader van haar 180-jarig jubileum organiseert Fanfare St. Caecilia Schimmert op donderdagavond 30 oktober een memorabel concert in de St. Remigiuskerk te Schimmert. Aanvang 19.30 uur. \nSpeciaal voor deze feestelijke gelegenheid treedt De Marinierskapel der Koninklijke Marine\, onder bezielende leiding van dirigent Erik van de Kolk\, geheel belangeloos op met een indrukwekkend en gevarieerd programma. Daarnaast is er voor dit concert een compositie geschreven door Guillermo Lago (Willem van Merwijk) voor 2 topsolisten\, te weten Jordi Rouschop en Romano Diederen. \nHet is voor Fanfare St. Caecilia een grote eer om dit gerenommeerde orkest in Schimmert te mogen verwelkomen.
URL:https://marinierskapel.com/agenda/180-jarig-jubileum-fanfare-st-caecilia-schimmert/
LOCATION:St. Remigiuskerk\, Hoofdstraat 86\, Schimmert\, 6333BK
ATTACH;FMTTYPE=image/jpeg:https://marinierskapel.com/wp-content/uploads/2025/09/Marine-Renee-Merthal-Hakvoortfoto-62-scaled.jpg
END:VEVENT
END:VCALENDAR