BEGIN:VCALENDAR
VERSION:2.0
PRODID:-//Marinierskapel der Koninklijke Marine - ECPv5.16.4//NONSGML v1.0//EN
CALSCALE:GREGORIAN
METHOD:PUBLISH
X-WR-CALNAME:Marinierskapel der Koninklijke Marine
X-ORIGINAL-URL:https://marinierskapel.com
X-WR-CALDESC:Events for Marinierskapel der Koninklijke Marine
REFRESH-INTERVAL;VALUE=DURATION:PT1H
X-Robots-Tag:noindex
X-PUBLISHED-TTL:PT1H
BEGIN:VTIMEZONE
TZID:Europe/Amsterdam
BEGIN:DAYLIGHT
TZOFFSETFROM:+0100
TZOFFSETTO:+0200
TZNAME:CEST
DTSTART:20250330T010000
END:DAYLIGHT
BEGIN:STANDARD
TZOFFSETFROM:+0200
TZOFFSETTO:+0100
TZNAME:CET
DTSTART:20251026T010000
END:STANDARD
END:VTIMEZONE
BEGIN:VEVENT
DTSTART;TZID=Europe/Amsterdam:20250525T150000
DTEND;TZID=Europe/Amsterdam:20250525T170000
DTSTAMP:20260425T135746
CREATED:20250513T200224Z
LAST-MODIFIED:20250513T200224Z
UID:2997-1748185200-1748192400@marinierskapel.com
SUMMARY:Memorial Day Margraten
DESCRIPTION:Precies 8301 – in veel gevallen jonge – Amerikaanse militairen liggen begraven onder de witte grafstenen van de enige Amerikaanse begraafplaats van Nederland in het Zuid-Limburgse Margraten. Zij gaven in de Tweede Wereldoorlog hun leven voor de vrijheid van Europa. De Nederlandse regering stond\, in 1945\, de grond voor de begraafplaats in eeuwigdurende bruikleen af aan de Verenigde Staten\, uit eerbied en dankbaarheid. \nJaarlijks vindt op de laatste zondag van mei een herdenking plaats voor de gevallen Amerikaanse militairen. Tijdens de plechtigheid vindt een kranslegging plaats en wordt vanuit de lucht door straaljagers een saluut gebracht door het overvliegen in de zogenaamde ‘Missing Man’-formatie.\nDe Marinierskapel zal deze ceremonie muzikaal ondersteunen.
URL:https://marinierskapel.com/agenda/memorial-day-margraten/
LOCATION:Amerikaans ereveld\, Am begraafplaats 1\, Margraten\, 6269NA
ATTACH;FMTTYPE=image/jpeg:https://marinierskapel.com/wp-content/uploads/2025/05/IMG_8456-e1747166490155.jpg
END:VEVENT
BEGIN:VEVENT
DTSTART;TZID=Europe/Amsterdam:20250522T111500
DTEND;TZID=Europe/Amsterdam:20250522T120000
DTSTAMP:20260425T135746
CREATED:20250513T195542Z
LAST-MODIFIED:20250513T195542Z
UID:2992-1747912500-1747915200@marinierskapel.com
SUMMARY:Herdenkingsbijeenkomst CZSK
DESCRIPTION:De herdenking van overleden personeel van CZSK vindt op 22 mei 2025 plaats bij het brugcomplex van Hr.Ms. De Ruyter bij het Marinemuseum in Den Helder. Met deze bijeenkomst wordt blijk gegeven van respect en waardering voor overleden militairen en burgermedewerkers van CZSK. Tevens wordt steun betuigd aan de nabestaanden. De nabestaanden\, commandanten/hoofden van dienst en chefs der equipage\, ten tijde van overlijden van de medewerker\, ontvangen een uitnodiging voor de herdenking. \nOp 29 mei 2008\, tijdens de eerste herdenking\, zijn alle in actieve dienst overleden KM-militairen en burgermedewerkers van het CZSK\, vanaf 5 september 2005 (de oprichtingsdatum van het CZSK)\, herdacht. Nabestaanden die toen of later hebben aangegeven ook in de toekomst deel te willen nemen aan de herdenkingen\, ontvangen een persoonlijke uitnodiging. \nDe bijeenkomst begint om 10.30 uur met een ontvangst in gebouw Dukdalf. De herdenking zelf begint om 11.00 uur\, waarna de aanwezigen zich verplaatsen naar het monument Schaduwen van Licht. Hier zullen de plaatsvervangend Commandant Zeestrijdkrachten en vertegenwoordigers van de nabestaanden een krans leggen. \nDe herdenking zal muzikaal worden begeleid door het koperkwintet (MAR V) van de Marinierskapel der Koninklijke Marine.
URL:https://marinierskapel.com/agenda/herdenkingsbijeenkomst-czsk/
LOCATION:Koninklijk Instituut voor de Marine\, Het Nieuwe Diep 8\, Den Helder\, 1781AC\, Netherlands
ATTACH;FMTTYPE=image/jpeg:https://marinierskapel.com/wp-content/uploads/2025/05/IMG_8455.jpg
END:VEVENT
BEGIN:VEVENT
DTSTART;TZID=Europe/Amsterdam:20250521T150000
DTEND;TZID=Europe/Amsterdam:20250521T160000
DTSTAMP:20260425T135746
CREATED:20250513T181038Z
LAST-MODIFIED:20250513T181038Z
UID:2981-1747839600-1747843200@marinierskapel.com
SUMMARY:Vier de Vrijheid\, Geminipark
DESCRIPTION:80 jaar Marinierskapel\, 80 jaar vrijheid. Dit jaar viert het orkest 80 jaar vrijheid met zangeres Renée van Wegberg. Een muzikale ode aan de vrijheid en zij die daarvoor vochten.
URL:https://marinierskapel.com/agenda/vier-de-vrijheid-geminipark/
LOCATION:Geminipark\, Den Helder\, Huisduinerweg 3\, Den Helder\, 1782 GZ
ATTACH;FMTTYPE=image/jpeg:https://marinierskapel.com/wp-content/uploads/2025/04/Marine-Renee-Merthal-Hakvoortfoto-85-scaled-e1747159317684.jpg
END:VEVENT
BEGIN:VEVENT
DTSTART;TZID=Europe/Amsterdam:20250520T130000
DTEND;TZID=Europe/Amsterdam:20250520T141500
DTSTAMP:20260425T135746
CREATED:20250513T181200Z
LAST-MODIFIED:20250513T181221Z
UID:2970-1747746000-1747750500@marinierskapel.com
SUMMARY:Vier de Vrijheid\, Texel
DESCRIPTION:80 jaar Marinierskapel\, 80 jaar vrijheid. Dit jaar viert het orkest 80 jaar vrijheid met zangeres Renée van Wegberg. Een muzikale ode aan de vrijheid en zij die daarvoor vochten.
URL:https://marinierskapel.com/agenda/vier-de-vrijheid-texel/
LOCATION:Den Burg\, Texel\, Groeneplaats\, Den Burg\, Texel\, Waddeneilanden
ATTACH;FMTTYPE=image/jpeg:https://marinierskapel.com/wp-content/uploads/2025/04/Marine-Renee-Merthal-Hakvoortfoto-85-scaled-e1747159317684.jpg
END:VEVENT
BEGIN:VEVENT
DTSTART;TZID=Europe/Amsterdam:20250517T194500
DTEND;TZID=Europe/Amsterdam:20250517T221500
DTSTAMP:20260425T135746
CREATED:20250513T181335Z
LAST-MODIFIED:20250513T181440Z
UID:2965-1747511100-1747520100@marinierskapel.com
SUMMARY:Vier de Vrijheid\, Goes
DESCRIPTION:80 jaar Marinierskapel\, 80 jaar vrijheid. Dit jaar viert het orkest 80 jaar vrijheid met zangeres Renée van Wegberg. Een muzikale ode aan de vrijheid en zij die daarvoor vochten.
URL:https://marinierskapel.com/agenda/vier-de-vrijheid/
LOCATION:grote markt\, goes\, Lange Kerkstraat 1\, Goes\, Zeeland\, 4461 JG
ATTACH;FMTTYPE=image/jpeg:https://marinierskapel.com/wp-content/uploads/2025/04/Marine-Renee-Merthal-Hakvoortfoto-85-scaled-e1747159317684.jpg
END:VEVENT
END:VCALENDAR