BEGIN:VCALENDAR
VERSION:2.0
PRODID:-//Marinierskapel der Koninklijke Marine - ECPv5.16.4//NONSGML v1.0//EN
CALSCALE:GREGORIAN
METHOD:PUBLISH
X-WR-CALNAME:Marinierskapel der Koninklijke Marine
X-ORIGINAL-URL:https://marinierskapel.com
X-WR-CALDESC:Events for Marinierskapel der Koninklijke Marine
REFRESH-INTERVAL;VALUE=DURATION:PT1H
X-Robots-Tag:noindex
X-PUBLISHED-TTL:PT1H
BEGIN:VTIMEZONE
TZID:Europe/Amsterdam
BEGIN:DAYLIGHT
TZOFFSETFROM:+0100
TZOFFSETTO:+0200
TZNAME:CEST
DTSTART:20250330T010000
END:DAYLIGHT
BEGIN:STANDARD
TZOFFSETFROM:+0200
TZOFFSETTO:+0100
TZNAME:CET
DTSTART:20251026T010000
END:STANDARD
END:VTIMEZONE
BEGIN:VEVENT
DTSTART;TZID=Europe/Amsterdam:20250704T110000
DTEND;TZID=Europe/Amsterdam:20250704T110000
DTSTAMP:20260424T115357
CREATED:20250513T202818Z
LAST-MODIFIED:20250513T202818Z
UID:3015-1751626800-1751626800@marinierskapel.com
SUMMARY:Grote beëdiging marine officieren in Den Helder
DESCRIPTION:Op vrijdag 4 juli vindt de grote beëdiging van marineofficieren plaats op het Koninklijk Instituut voor de Marine\, het KIM. Naast de eed of belofte van trouw wordt met deze ceremonie symbolisch de adelborstenperiode voor de nieuwe officieren afgesloten. Tevens is dit het moment om terug te blikken op de afgelopen studietijd en worden er beloningen uitgereikt aan veelbelovende Adelborsten\nDe Marinierskapel en de Tamboers & Pijpers verzorgen de muzikale omlijsting op de grote parade van de Rijkswerf achter het Mariniersmuseum en de ceremonie wordt afgesloten met een kort defilé voorlangs het KIM.
URL:https://marinierskapel.com/agenda/grote-beediging-marine-officieren-in-den-helder/
LOCATION:Koninklijk Instituut voor de Marine\, Het Nieuwe Diep 8\, Den Helder\, 1781AC\, Netherlands
ATTACH;FMTTYPE=image/jpeg:https://marinierskapel.com/wp-content/uploads/2025/05/IMG_8459.jpg
END:VEVENT
BEGIN:VEVENT
DTSTART;TZID=Europe/Amsterdam:20250709T200000
DTEND;TZID=Europe/Amsterdam:20250709T230000
DTSTAMP:20260424T115357
CREATED:20250513T203420Z
LAST-MODIFIED:20250513T203420Z
UID:3018-1752091200-1752102000@marinierskapel.com
SUMMARY:Taptoe Den Helder
DESCRIPTION:De taptoe Den Helder 2025 zal dit jaar worden uitgevoerd op woensdagavond 9 juli op het terrein bij het Marinemuseum.
URL:https://marinierskapel.com/agenda/taptoe-den-helder/
LOCATION:De Dukdalf\, Hoofdgracht 1\, Den Helder\, 1781AA
ATTACH;FMTTYPE=image/jpeg:https://marinierskapel.com/wp-content/uploads/2025/05/IMG_8460.jpg
END:VEVENT
BEGIN:VEVENT
DTSTART;TZID=Europe/Amsterdam:20250718T140000
DTEND;TZID=Europe/Amsterdam:20250718T170000
DTSTAMP:20260424T115357
CREATED:20250513T204043Z
LAST-MODIFIED:20250513T204043Z
UID:3022-1752847200-1752858000@marinierskapel.com
SUMMARY:Intocht 4Daagse Nijmegen
DESCRIPTION:Onze muziek vertelt het verhaal van Defensie. Dat zorgt voor betrokkenheid en een goede relatie met de burgerbevolking. Zo zijn er jaarlijks concerten voor veteranen\, bevrijdingsconcerten\, de Nationale Taptoe en benefietconcerten. \nMilitaire orkesten spelen ook op een aantal grote evenementen. Zo begeleiden militaire orkesten de wandelaars tijdens de Nijmeegse 4Daagse met marsmuziek.
URL:https://marinierskapel.com/agenda/intocht-4daagse-nijmegen/
LOCATION:4Daagse Nijmegen\, Via Gladiola\, Nijmegen
ATTACH;FMTTYPE=image/jpeg:https://marinierskapel.com/wp-content/uploads/2025/05/IMG_8461.jpg
END:VEVENT
END:VCALENDAR